
BEGIN:VCALENDAR
VERSION:2.0
PRODID:-//QAST - ECPv6.15.20//NONSGML v1.0//EN
CALSCALE:GREGORIAN
METHOD:PUBLISH
X-ORIGINAL-URL:https://qast.org.au
X-WR-CALDESC:Events for QAST
REFRESH-INTERVAL;VALUE=DURATION:PT1H
X-Robots-Tag:noindex
X-PUBLISHED-TTL:PT1H
BEGIN:VTIMEZONE
TZID:Australia/Brisbane
BEGIN:STANDARD
TZOFFSETFROM:+1000
TZOFFSETTO:+1000
TZNAME:AEST
DTSTART:20250101T000000
END:STANDARD
END:VTIMEZONE
BEGIN:VEVENT
DTSTART;TZID=Australia/Brisbane:20260513T150000
DTEND;TZID=Australia/Brisbane:20260513T180000
DTSTAMP:20260425T220521
CREATED:20260114T020040Z
LAST-MODIFIED:20260311T015657Z
UID:10000044-1778684400-1778695200@qast.org.au
SUMMARY:Food Safety for School Tuckshops - Face to Face (Townsville) – Wednesday\, 13 May 2026
DESCRIPTION:Course Date:\nThis face-to-face Food Safety for School Tuckshops course will be held on Wednesday\, 13 May 2026 at Townsville State High School. \n3pm – 6pm (approx.) \nCourse Fee:\n$199 per person (incl. GST). \nPayment must be received prior to the course. \nRegister and pay:\nREGISTER NOW\nIf you need any more information or have any questions\, please don’t hesitate to contact our team on (07) 3324 1511.
URL:https://qast.org.au/event/food-safety-for-school-tuckshops-face-to-face-townsville-wednesday-13-may-2026/
LOCATION:Townsville State High School\, 36 Boundary St\,\, Railway Estate\, QLD\, 4810
ATTACH;FMTTYPE=image/jpeg:https://qast.org.au/wp-content/uploads/2025/12/food_safety_for_school_tuckshops_feature.jpg
END:VEVENT
END:VCALENDAR